BEGIN:VCALENDAR
VERSION:2.0
PRODID:-//Kent Delord House Museum - ECPv6.15.20//NONSGML v1.0//EN
CALSCALE:GREGORIAN
METHOD:PUBLISH
X-WR-CALNAME:Kent Delord House Museum
X-ORIGINAL-URL:https://www.kentdelordhouse.org
X-WR-CALDESC:Events for Kent Delord House Museum
REFRESH-INTERVAL;VALUE=DURATION:PT1H
X-Robots-Tag:noindex
X-PUBLISHED-TTL:PT1H
BEGIN:VTIMEZONE
TZID:UTC
BEGIN:STANDARD
TZOFFSETFROM:+0000
TZOFFSETTO:+0000
TZNAME:UTC
DTSTART:20180101T000000
END:STANDARD
END:VTIMEZONE
BEGIN:VEVENT
DTSTART;TZID=UTC:20190308T080000
DTEND;TZID=UTC:20190308T170000
DTSTAMP:20260423T232118
CREATED:20190308T165910Z
LAST-MODIFIED:20190308T181546Z
UID:673-1552032000-1552064400@www.kentdelordhouse.org
SUMMARY:New Director
DESCRIPTION:The Trustees of the Kent-Delord House Museum at 17 Cumberland Ave.\,Plattsburgh\, are pleased to welcome Samantha Williams as the new Director. Samantha began working at the museum on February 12\, 2019\, after the retirement in January of Donald Wickman who served as director the previous five years. \nSamantha has extensive museum experience having coordinated educational programs at the Lake Champlain Maritime Museum in Vergennes\, Vt. She is also certified to remotely operate an underwater research vehicle in Lake Champlain. Additionally\, Samantha is a qualified blacksmith who enjoys teaching this skill. Samantha is becoming familiar with the three generations of the Delord Family in Plattsburgh\, and planning for the spring reopening of the museum on May 14\, 2019. She can be reached at (518) 561-1035 or kdhmuseum@gmail.com.
URL:https://www.kentdelordhouse.org/event/new-director/
LOCATION:NY
END:VEVENT
END:VCALENDAR