BEGIN:VCALENDAR
VERSION:2.0
PRODID:-//Kent Delord House Museum - ECPv6.15.20//NONSGML v1.0//EN
CALSCALE:GREGORIAN
METHOD:PUBLISH
X-WR-CALNAME:Kent Delord House Museum
X-ORIGINAL-URL:https://www.kentdelordhouse.org
X-WR-CALDESC:Events for Kent Delord House Museum
REFRESH-INTERVAL;VALUE=DURATION:PT1H
X-Robots-Tag:noindex
X-PUBLISHED-TTL:PT1H
BEGIN:VTIMEZONE
TZID:UTC
BEGIN:STANDARD
TZOFFSETFROM:+0000
TZOFFSETTO:+0000
TZNAME:UTC
DTSTART:20220101T000000
END:STANDARD
END:VTIMEZONE
BEGIN:VEVENT
DTSTART;TZID=UTC:20230326T140000
DTEND;TZID=UTC:20230326T150000
DTSTAMP:20260423T162257
CREATED:20230222T175633Z
LAST-MODIFIED:20230222T175633Z
UID:11014-1679839200-1679842800@www.kentdelordhouse.org
SUMMARY:Members Only: Taste of the Past
DESCRIPTION:
URL:https://www.kentdelordhouse.org/event/members-only-taste-of-the-past-2/
END:VEVENT
END:VCALENDAR