BEGIN:VCALENDAR
VERSION:2.0
PRODID:-//Kent Delord House Museum - ECPv6.15.20//NONSGML v1.0//EN
CALSCALE:GREGORIAN
METHOD:PUBLISH
X-WR-CALNAME:Kent Delord House Museum
X-ORIGINAL-URL:https://www.kentdelordhouse.org
X-WR-CALDESC:Events for Kent Delord House Museum
REFRESH-INTERVAL;VALUE=DURATION:PT1H
X-Robots-Tag:noindex
X-PUBLISHED-TTL:PT1H
BEGIN:VTIMEZONE
TZID:UTC
BEGIN:STANDARD
TZOFFSETFROM:+0000
TZOFFSETTO:+0000
TZNAME:UTC
DTSTART:20230101T000000
END:STANDARD
END:VTIMEZONE
BEGIN:VEVENT
DTSTART;TZID=UTC:20241207T110000
DTEND;TZID=UTC:20241207T150000
DTSTAMP:20260419T162152
CREATED:20240502T170632Z
LAST-MODIFIED:20240502T170705Z
UID:11412-1733569200-1733583600@www.kentdelordhouse.org
SUMMARY:Holiday Open House & Artisan Fair
DESCRIPTION:
URL:https://www.kentdelordhouse.org/event/holiday-open-house-artisan-fair/
END:VEVENT
END:VCALENDAR